Workbook

Sheet variables
C9: Prima zi de munca a lunii anterioare | D9: 43586
C10: Ultima zi de munca a lunii de calcul | D10: 43646
C12: Salariul lunar brut | D12: 2200
C13: Valoarea diurnă - zilnică | D13: 24
C14: Valoarea diurnă - sfârșit de săptămână | D14: =SUM(D15:D17)*2 -> 180
C15: Spesen (steuerfrei) | D15: 24
C16: Spesen (pauschal versteuert) | D16: 24
C17: Spesen (versteuert) | D17: 42
C20: Brut = venit salarial cu toate impozite, contribuțiile si taxe incluse < --- singurul despre care se discuta in Germania/Danemarca
C21: Net = salariul plătibil angajatului după ce toate taxele și contribuțiile au fost deduse (bani în mână) <--- singurul despre care se discută în Romania
B25: Gross Income treshold | C25: Tax | D25: Tax-% | E25: Social Insurance | F25: KK-%
B26: 1367.25 | C26: 44.66 | D26: =+C26/B26 -> 0.032664107 | E26: 274.47 | F26: =+E26/B26 -> 0.20074602
B27: 1443 | C27: 59.5 | D27: =+C27/B27 -> 0.041233541 | E27: 289.68 | F27: =+E27/B27 -> 0.20074844
B28: 1861 | C28: 158.77 | D28: =+C28/B28 -> 0.085314347 | E28: 373.58 | F28: =+E28/B28 -> 0.20074154
B29: 1992.28 | C29: 188.58 | D29: =+C29/B29 -> 0.09465537 | E29: 399.95 | F29: =+E29/B29 -> 0.20074989
B30: 2129.25 | C30: 220.4 | D30: =+C30/B30 -> 0.10351063 | E30: 427.44 | F30: =+E30/B30 -> 0.20074674
B31: 2361 | C31: 275.88 | D31: =+C31/B31 -> 0.11684879 | E31: 473.96 | F31: =+E31/B31 -> 0.20074545
B32: 2361 | C32: 275.88 | D32: =+C32/B32 -> 0.11684879 | E32: 473.96 | F32: =+E32/B32 -> 0.20074545
B33: 2456 | C33: 299.26 | D33: =+C33/B33 -> 0.12184853 | E33: 493.04 | F33: =+E33/B33 -> 0.20074919
B34: 2461 | C34: 300.49 | D34: =+C34/B34 -> 0.12210077 | E34: 494.03 | F34: =+E34/B34 -> 0.2007436
B35: 2536 | C35: 319.13 | D35: =+C35/B35 -> 0.12583991 | E35: 509.1 | F35: =+E35/B35 -> 0.20074921
B36: 2561 | C36: 325.37 | D36: =+C36/B36 -> 0.12704803 | E36: 514.11 | F36: =+E36/B36 -> 0.2007458

Sheet distribution
A1: =TEXT(variables!D9,"mmmm yyyy") -> May 2019 | B1: Salary | C1: =variables!C15 -> Spesen (steuerfrei) | D1: =variables!C16 -> Spesen (pauschal versteuert) | E1: =variables!C17 -> Spesen (versteuert) | G1: =TEXT(variables!D10,"mmmm yyyy") -> June 2019 | H1: Salary | I1: =variables!C15 -> Spesen (steuerfrei) | J1: =variables!C16 -> Spesen (pauschal versteuert) | K1: =variables!C17 -> Spesen (versteuert)
A2: =IF(MONTH(variables!D9)=MONTH(variables!D10), "",variables!D9-DAY(variables!D9)+1) -> 43586 | B2: =IF(C2="","",math!$C$2) -> 70.967742 | C2: =IF(A2<"",IF(A2<variables!$D$9,"",variables!$D$13),"") -> 24 | D2: =IF(C2<"",IF(WEEKDAY(A2,1)>6,variables!$D$15,""),"") | E2: =IF(D2="","",variables!$D$17) | G2: =variables!$D$10-DAY(variables!$D$10)+1 -> 43617 | H2: =IF(I2="","",math!$C$3) -> 73.333333 | I2: =IF(G2<"",IF(G2>variables!$D$10,"",variables!$D$13),"") -> 24 | J2: =IF(I2<"",IF(WEEKDAY(G2,1)>6,variables!$D$15,""),"") -> 24 | K2: =IF(J2="","",variables!$D$17) -> 42
A3: =IF(A2>=math!$B$10,"",distribution!A2+1) -> 43587 | B3: =IF(C3="","",math!$C$2) -> 70.967742 | C3: =IF(A3<"",IF(A3<variables!$D$9,"",variables!$D$13),"") -> 24 | D3: =IF(C3<"",IF(WEEKDAY(A3,2)>5,variables!$D$15,""),"") | E3: =IF(D3="","",variables!$D$17) | G3: =IF(G2>=math!$B$11,"",distribution!G2+1) -> 43618 | H3: =IF(I3="","",math!$C$3) -> 73.333333 | I3: =IF(G3<"",IF(G3>variables!$D$10,"",variables!$D$13),"") -> 24 | J3: =IF(I3<"",IF(WEEKDAY(G3,2)>5,variables!$D$15,""),"") -> 24 | K3: =IF(J3="","",variables!$D$17) -> 42
A4: =IF(A3>=math!$B$10,"",distribution!A3+1) -> 43588 | B4: =IF(C4="","",math!$C$2) -> 70.967742 | C4: =IF(A4<"",IF(A4<variables!$D$9,"",variables!$D$13),"") -> 24 | D4: =IF(C4<"",IF(WEEKDAY(A4,2)>5,variables!$D$15,""),"") | E4: =IF(D4="","",variables!$D$17) | G4: =IF(G3>=math!$B$11,"",distribution!G3+1) -> 43619 | H4: =IF(I4="","",math!$C$3) -> 73.333333 | I4: =IF(G4<"",IF(G4>variables!$D$10,"",variables!$D$13),"") -> 24 | J4: =IF(I4<"",IF(WEEKDAY(G4,2)>5,variables!$D$15,""),"") | K4: =IF(J4="","",variables!$D$17)
A5: =IF(A4>=math!$B$10,"",distribution!A4+1) -> 43589 | B5: =IF(C5="","",math!$C$2) -> 70.967742 | C5: =IF(A5<"",IF(A5<variables!$D$9,"",variables!$D$13),"") -> 24 | D5: =IF(C5<"",IF(WEEKDAY(A5,2)>5,variables!$D$15,""),"") -> 24 | E5: =IF(D5="","",variables!$D$17) -> 42 | G5: =IF(G4>=math!$B$11,"",distribution!G4+1) -> 43620 | H5: =IF(I5="","",math!$C$3) -> 73.333333 | I5: =IF(G5<"",IF(G5>variables!$D$10,"",variables!$D$13),"") -> 24 | J5: =IF(I5<"",IF(WEEKDAY(G5,2)>5,variables!$D$15,""),"") | K5: =IF(J5="","",variables!$D$17)
A6: =IF(A5>=math!$B$10,"",distribution!A5+1) -> 43590 | B6: =IF(C6="","",math!$C$2) -> 70.967742 | C6: =IF(A6<"",IF(A6<variables!$D$9,"",variables!$D$13),"") -> 24 | D6: =IF(C6<"",IF(WEEKDAY(A6,2)>5,variables!$D$15,""),"") -> 24 | E6: =IF(D6="","",variables!$D$17) -> 42 | G6: =IF(G5>=math!$B$11,"",distribution!G5+1) -> 43621 | H6: =IF(I6="","",math!$C$3) -> 73.333333 | I6: =IF(G6<"",IF(G6>variables!$D$10,"",variables!$D$13),"") -> 24 | J6: =IF(I6<"",IF(WEEKDAY(G6,2)>5,variables!$D$15,""),"") | K6: =IF(J6="","",variables!$D$17)
A7: =IF(A6>=math!$B$10,"",distribution!A6+1) -> 43591 | B7: =IF(C7="","",math!$C$2) -> 70.967742 | C7: =IF(A7<"",IF(A7<variables!$D$9,"",variables!$D$13),"") -> 24 | D7: =IF(C7<"",IF(WEEKDAY(A7,2)>5,variables!$D$15,""),"") | E7: =IF(D7="","",variables!$D$17) | G7: =IF(G6>=math!$B$11,"",distribution!G6+1) -> 43622 | H7: =IF(I7="","",math!$C$3) -> 73.333333 | I7: =IF(G7<"",IF(G7>variables!$D$10,"",variables!$D$13),"") -> 24 | J7: =IF(I7<"",IF(WEEKDAY(G7,2)>5,variables!$D$15,""),"") | K7: =IF(J7="","",variables!$D$17)
A8: =IF(A7>=math!$B$10,"",distribution!A7+1) -> 43592 | B8: =IF(C8="","",math!$C$2) -> 70.967742 | C8: =IF(A8<"",IF(A8<variables!$D$9,"",variables!$D$13),"") -> 24 | D8: =IF(C8<"",IF(WEEKDAY(A8,2)>5,variables!$D$15,""),"") | E8: =IF(D8="","",variables!$D$17) | G8: =IF(G7>=math!$B$11,"",distribution!G7+1) -> 43623 | H8: =IF(I8="","",math!$C$3) -> 73.333333 | I8: =IF(G8<"",IF(G8>variables!$D$10,"",variables!$D$13),"") -> 24 | J8: =IF(I8<"",IF(WEEKDAY(G8,2)>5,variables!$D$15,""),"") | K8: =IF(J8="","",variables!$D$17)
A9: =IF(A8>=math!$B$10,"",distribution!A8+1) -> 43593 | B9: =IF(C9="","",math!$C$2) -> 70.967742 | C9: =IF(A9<"",IF(A9<variables!$D$9,"",variables!$D$13),"") -> 24 | D9: =IF(C9<"",IF(WEEKDAY(A9,2)>5,variables!$D$15,""),"") | E9: =IF(D9="","",variables!$D$17) | G9: =IF(G8>=math!$B$11,"",distribution!G8+1) -> 43624 | H9: =IF(I9="","",math!$C$3) -> 73.333333 | I9: =IF(G9<"",IF(G9>variables!$D$10,"",variables!$D$13),"") -> 24 | J9: =IF(I9<"",IF(WEEKDAY(G9,2)>5,variables!$D$15,""),"") -> 24 | K9: =IF(J9="","",variables!$D$17) -> 42
A10: =IF(A9>=math!$B$10,"",distribution!A9+1) -> 43594 | B10: =IF(C10="","",math!$C$2) -> 70.967742 | C10: =IF(A10<"",IF(A10<variables!$D$9,"",variables!$D$13),"") -> 24 | D10: =IF(C10<"",IF(WEEKDAY(A10,2)>5,variables!$D$15,""),"") | E10: =IF(D10="","",variables!$D$17) | G10: =IF(G9>=math!$B$11,"",distribution!G9+1) -> 43625 | H10: =IF(I10="","",math!$C$3) -> 73.333333 | I10: =IF(G10<"",IF(G10>variables!$D$10,"",variables!$D$13),"") -> 24 | J10: =IF(I10<"",IF(WEEKDAY(G10,2)>5,variables!$D$15,""),"") -> 24 | K10: =IF(J10="","",variables!$D$17) -> 42
A11: =IF(A10>=math!$B$10,"",distribution!A10+1) -> 43595 | B11: =IF(C11="","",math!$C$2) -> 70.967742 | C11: =IF(A11<"",IF(A11<variables!$D$9,"",variables!$D$13),"") -> 24 | D11: =IF(C11<"",IF(WEEKDAY(A11,2)>5,variables!$D$15,""),"") | E11: =IF(D11="","",variables!$D$17) | G11: =IF(G10>=math!$B$11,"",distribution!G10+1) -> 43626 | H11: =IF(I11="","",math!$C$3) -> 73.333333 | I11: =IF(G11<"",IF(G11>variables!$D$10,"",variables!$D$13),"") -> 24 | J11: =IF(I11<"",IF(WEEKDAY(G11,2)>5,variables!$D$15,""),"") | K11: =IF(J11="","",variables!$D$17)
A12: =IF(A11>=math!$B$10,"",distribution!A11+1) -> 43596 | B12: =IF(C12="","",math!$C$2) -> 70.967742 | C12: =IF(A12<"",IF(A12<variables!$D$9,"",variables!$D$13),"") -> 24 | D12: =IF(C12<"",IF(WEEKDAY(A12,2)>5,variables!$D$15,""),"") -> 24 | E12: =IF(D12="","",variables!$D$17) -> 42 | G12: =IF(G11>=math!$B$11,"",distribution!G11+1) -> 43627 | H12: =IF(I12="","",math!$C$3) -> 73.333333 | I12: =IF(G12<"",IF(G12>variables!$D$10,"",variables!$D$13),"") -> 24 | J12: =IF(I12<"",IF(WEEKDAY(G12,2)>5,variables!$D$15,""),"") | K12: =IF(J12="","",variables!$D$17)
A13: =IF(A12>=math!$B$10,"",distribution!A12+1) -> 43597 | B13: =IF(C13="","",math!$C$2) -> 70.967742 | C13: =IF(A13<"",IF(A13<variables!$D$9,"",variables!$D$13),"") -> 24 | D13: =IF(C13<"",IF(WEEKDAY(A13,2)>5,variables!$D$15,""),"") -> 24 | E13: =IF(D13="","",variables!$D$17) -> 42 | G13: =IF(G12>=math!$B$11,"",distribution!G12+1) -> 43628 | H13: =IF(I13="","",math!$C$3) -> 73.333333 | I13: =IF(G13<"",IF(G13>variables!$D$10,"",variables!$D$13),"") -> 24 | J13: =IF(I13<"",IF(WEEKDAY(G13,2)>5,variables!$D$15,""),"") | K13: =IF(J13="","",variables!$D$17)
A14: =IF(A13>=math!$B$10,"",distribution!A13+1) -> 43598 | B14: =IF(C14="","",math!$C$2) -> 70.967742 | C14: =IF(A14<"",IF(A14<variables!$D$9,"",variables!$D$13),"") -> 24 | D14: =IF(C14<"",IF(WEEKDAY(A14,2)>5,variables!$D$15,""),"") | E14: =IF(D14="","",variables!$D$17) | G14: =IF(G13>=math!$B$11,"",distribution!G13+1) -> 43629 | H14: =IF(I14="","",math!$C$3) -> 73.333333 | I14: =IF(G14<"",IF(G14>variables!$D$10,"",variables!$D$13),"") -> 24 | J14: =IF(I14<"",IF(WEEKDAY(G14,2)>5,variables!$D$15,""),"") | K14: =IF(J14="","",variables!$D$17)
... A33: =IF(A32>=math!$B$10,"",distribution!A32+1) | B33: =IF(C33="","",math!$C$2) | C33: =IF(A33<"",IF(A33<variables!$D$9,"",variables!$D$13),"") | D33: =IF(C33<"",IF(WEEKDAY(A33,2)>5,variables!$D$15,""),"") | E33: =IF(D33="","",variables!$D$17) | G33: =IF(G32>=math!$B$11,"",distribution!G32+1) | H33: =IF(I33="","",math!$C$3) | I33: =IF(G33<"",IF(G33>variables!$D$10,"",variables!$D$13),"") | J33: =IF(I33<"",IF(WEEKDAY(G33,2)>5,variables!$D$15,""),"") | K33: =IF(J33="","",variables!$D$17)
A34: =IF(A33>=math!$B$10,"",distribution!A33+1) | B34: =IF(C34="","",math!$C$2) | D34: =IF(C34<"",IF(WEEKDAY(A34,2)>5,variables!$D$15,""),"") | E34: =IF(D34="","",variables!$D$17) | G34: =IF(G33>=math!$B$11,"",distribution!G33+1) | H34: =IF(I34="","",math!$C$3) | J34: =IF(I34<"",IF(WEEKDAY(G34,2)>5,variables!$D$15,""),"") | K34: =IF(J34="","",variables!$D$17)
A35: =IF(A34>=math!$B$10,"",distribution!A34+1) | G35: =IF(G34>=math!$B$11,"",distribution!G34+1) | K35: =IF(J35="","",variables!$D$17)
C38: the extra payment for national holydays are not calculated in this estimation
C39: platile suplimentare pentru zilele de sarbatoare natională nu sunt luate in calcul in aceasta estimare

Sheet payslip
B1: Lohn- und Gehaltsausdruck | R1: =TEXT(variables!D10,"mmmm yyyy") -> June 2019
B2: Pers.-Nr. | C2: xxx | D2: St. Kl. | E2: 1 | F2: Eintritt | G2: dd.mm.yyyy | H2: Steuerfrei | I2: nom. | J2: 0 | K2: jhr. | L2: 0 | M2: Konf. | O2: / | Q2: Tarif
B3: SV-Nr. | C3: ##[birthdate]M### | D3: Kinder | E3: 0 | F3: Ersteintritt | G3: dd.mm.yyyy | H3: Tatigkeit | I3: ##### #### | K3: Soll wo. | L3: 48 | M3: MFB | O3: Nein | Q3: Kost. | R3: 0
B4: Familie | C4: male, single | D4: PV-K | E4: JA | F4: Austritt | G4: dd.mm.yyyy | H4: Tatigkeit | I4: Berufskraftfahrer/in | M4: GV | O4: Nein | Q4: PGR | R4: 101
B5: Krk. | C5: AOK NordWest | E5: 0.155 | F5: Geb.Dat. | G5: dd.mm.yyyy | H5: Ident. Nr. | M5: GZ | O5: Nein | Q5: Abt.
I6: Tage/Gruppe | K6: =CONCATENATE("St ",math!B14," / 1") -> St 30 / 1 | L6: =CONCATENATE("KV ",math!B14," / 1") -> KV 30 / 1 | M6: =CONCATENATE("RV ",math!B14," / 1") -> RV 30 / 1 | P6: =CONCATENATE("AV ",math!B14," / 1") -> AV 30 / 1 | R6: =CONCATENATE("PV ",math!B14," / 1") -> PV 30 / 1
C8: Anneberg Transport GmbH, Robert-Bosch Straße 3, 25770 Hemmingstedt | J8: Urlaubsanspruch | Q8: 0
J9: Resturlaub Vorjahr | Q9: 0
J10: Sonderurlaub | Q10: 0
C11: Herr | J11: Schwerbehinderten Urlaub | Q11: 0
C12: First Name + Family Name | J12: bis Vormonat | Q12: 0
C13: Address | J13: gen. akt. Monat | Q13: 0
C14: City, County, Country | J14: Resturlaub | Q14: 0
I15: Fehlzeiten/Urlaub | M15: von | Q15: bis
I16: 23 | J16: Urlaub
I17: 15 | J17: unbezahlter Urlaub
B18: Lohnart | C18: Bezeichnung | G18: Einheit | I18: Satz | K18: Factor | L18: Zuschlag | M18: Art | O18: St | P18: SV | Q18: Betrag
B19: 101 | C19: Festlohn | G19: =math!B14-math!B3 -> 0 | I19: =math!C3 -> 73.333333 | M19: L | O19: 1 | P19: 1 | Q19: =G19*I19 -> 0
B20: 101 | C20: Festlohn | G20: =COUNTIF(distribution!H2:H32,">0") -> 30 | I20: =math!C3 -> 73.333333 | M20: L | O20: 1 | P20: 1 | Q20: =G20*I20 -> 2200
B21: 107 | C21: Spesen (versteuert) | G21: =COUNTIF(distribution!E16:E33,">0")+COUNTIF(distribution!K2:K15,">0") -> 8 | I21: =variables!D17 -> 42 | M21: L | O21: 1 | P21: 1 | Q21: =G21*I21 -> 336
B22: 111 | C22: KA-Prämie | G22: 1 | I22: 25 | M22: L | O22: 1 | P22: 1 | Q22: =G22*I22 -> 25
B23: 112 | C23: Spesen (pauschal versteuert) | G23: =COUNTIF(distribution!D16:D33,">0")+COUNTIF(distribution!J2:J15,">0") -> 8 | I23: =variables!D16 -> 24 | M23: L | Q23: =G23*I23 -> 192
B24: 113 | C24: Spesen (steuerfrei) | G24: =COUNTIF(distribution!C16:C33,">0")+COUNTIF(distribution!I2:I15,">0") -> 31 | I24: =variables!D13 -> 24 | M24: L | Q24: =G24*I24 -> 744
Q25: =G25*I25 -> 0
Q26: =G26*I26 -> 0
Q27: =G27*I27 -> 0
Q28: =G28*I28 -> 0
Q29: =G29*I29 -> 0
L30: Gesamtbrutto | Q30: =IF(MONTH(variables!D10)>6," ",SUM(Q20:R29)) -> 3497
B32: EZ | C32: Steuerbrutto | D32: Lohnsteuer | F32: Kirchensteuer | H32: Solidaritätszuschlag | Q32: Steuerrechtl. Abzüge
C33: =Q30-Q22-Q23-Q24 -> 2536 | D33: =C33*(VLOOKUP(C33,variables!B25:F36,3)) -> 319.13 | F33: 0 | H33: =D33*5.5% -> 17.55215 | Q33: =H33+D33 -> 336.68215
C34: 0 | D34: 0 | F34: 0 | H34: 0
B35: EZ | C35: KV-/PV-Brutto | D35: RV-/AV-Brutto | F35: KV-Beitrag | H35: RV-Beitrag | K35: AV-Beitrag | M35: PV-Beitrag | Q35: SV-rechtl. Abzüge
C36: =C33 -> 2536 | D36: =C33 -> 2536 | F36: =(20.07%*C36)/2 -> 254.4876 | H36: =(19.6%*D36)/2 -> 248.528 | K36: =(3%*D36)/2 -> 38.04 | M36: =(3%*C36)/2 -> 38.04 | Q36: =M36+K36+H36+F36 -> 579.0956
C37: 0 | D37: 0 | F37: 0 | H37: 0 | K37: 0 | M37: 0
B38: Netto-Bezuge/-Abzuge | L38: Nettoverdienst | Q38: =Q30-(Q33+Q36) -> 2581.2222
B39: Lohnart | C39: Bezeichnung | G39: Einheit | I39: Satz | K39: Factor | M39: Zuschlag | Q39: Betrag
B40: 9901 | C40: Korrekturauszahlung | G40: 1 | I40: 0 | Q40: =G40*I40 -> 0
B44: Inhaber: | C44: First Name + Family Name | F44: BLZ: | J44: Summe Netto-Bezuge/-Abzuge | Q44: =SUM(Q40:R43) -> 0
B45: Bank: | C45: your bank name | F45: Kto-Nr:
...

Sheet math
C1: salary daily amount
A2: working days in the first month | B2: =DAY(EOMONTH(variables!D9,0)) -> 31 | C2: =variables!$D$12/math!B2 -> 70.967742
A3: working days in the second month | B3: =DAY(EOMONTH(variables!D10,0)) -> 30 | C3: =variables!$D$12/math!B3 -> 73.333333
A6: paid days first month
A7: paid days second month
A10: end of the 1st month | B10: =EOMONTH(variables!D9,0) -> 43616
A11: end of the 2nd month | B11: =EOMONTH(variables!D10,0) -> 43646
A12: first day of the 2nd month | B12: =variables!D10-DAY(variables!D10)+1 -> 43617
A13: number of working days in the 1st month | B13: =B10-variables!D9 -> 30
A14: number of days worked in the 2nd month | B14: =DAY(variables!D10) -> 30
A15: total days worked in the period | B15: =B13+B14 -> 60
A19: perdiem weekdays 1st month | B19: =NETWORKDAYS(variables!D9,B10) -> 23
A20: perdiem weekdays 2st month | B20: =NETWORKDAYS(B12,variables!D10) -> 20
A21: total weekdays in the period | B21: =SUM(B19:B20) -> 43
